Workbook

Sheet 11.Sınıflar_Python_Haftada_1_sa
A1: 2026-2027 EĞİTİM-ÖĞRETİM YILI ….............. İLİ ….............. İLÇESİ …................... ANADOLU LİSESİ BİLİŞİM TEKNOLOJİLERİ VE YAZILIM DERSİ 11.SINIFLAR PROGRAMLAMA DİLLERİ MODÜLÜ (PYTHON) ÜNİTELENDİRİLMİŞ YILLIK DERS PLANI
A2: AY | B2: HAFTA | C2: GÜN | D2: SAAT | E2: KAZANIMLAR | F2: ÜNİTE VE KONU | G2: ÖLÇME DEĞERLENDİRME | H2: YÖNTEM VE TEKNİKLER | I2: BELİRLİ GÜN VE HAFTALAR | J2: OKUL DIŞI ÖĞRENME
A3: =Sayfa1!B2 -> Eylül | B3: =Sayfa1!C2 -> 3 | C3: =TEXT(Sayfa1!D2, "gg") & " - " & TEXT(Sayfa1!E2, "gg") -> 14 - 18 | D3: =Sayfa1!F2 -> 1 | E3: 1.1. Python programlama diliyle çalışılacak ortamları tanır. a) IDE (Integrated Development Environment) kavramı açıklanır. b) Python IDE türlerini listeler. Öğrencilere popüler IDE‘lerin avantaj ve dezavantajları açıklanır. c) Derlenen ve yorumlanan dillerden ve bunların farklarından bahsedililir. ç) Derleyici ve yorumlayıcı örnekleri verilir. Derleyici ve yorumlayıcı kullanmanın avantaj ve dezavantajları anlatılır. d) Python programlama dilinin yorumlanan bir dil olduğu vurgulanır. e) En yaygın kullanılan IDE’lerden (Atom, IDLE, Jupyter, PyCharm, Pydev, Spyder, Sublime Text ve Visual Studio Code) bahsedilir. | F3: 1. ÜNİTE: PYTHON PROGRAMLAMAYA GİRİŞ Python programlama diliyle çalışılacak ortamlar | G3: Öz Değerlendirme, Sözlü yoklama, Ders Materyalleri Ölçme ve Değerlendirme Bölümleri | H3: Anlatım, Soru-Cevap , Takım/Grup Çalışması, Örnek Olay İncelemesi, Gösterip yaptırma | I3: 15 Temmuz Demokrasi ve Milli Birlik Günü
A4: =Sayfa1!B3 -> Eylül | B4: =Sayfa1!C3 -> 4 | C4: =TEXT(Sayfa1!D3, "gg") & " - " & TEXT(Sayfa1!E3, "gg") -> 21 - 25 | D4: =Sayfa1!F3 -> 1 | E4: 1.2. Farklı entegre geliştirme ortamlarını analiz ederek kendisine en uygun çalışma ortamını seçer. a) Ders akışında kullanılacak Python ide seçilir, kurulumu yapılır. Seçilen Python idesi öğrencilere tanıtılır. Python programlama diline özgü basit örnekler ile editörde üretilen sonuç gözlemlenir. Kod satırına yazılan 5+2 ifadesinden elde edilen sonuç ile Python programlamanın işlevselliği ve kodlama kolaylığı hususunda idenin rolü açıklanır. b) Özellikleri anlatılan bir Python IDE’si seçilerek öğrencilerle birlikte kurulumu yapılır. c) Hangi satırların hangi renklerde göründüğü örneklerle açıklanır. ç) Yorum satırından bahsedilir. Tek satır ve çok satır olması durumunda kullanılacak ifadeler gösterilir. d) Ekrana yazdırma komutu print()’in önemi ve gerekliliği vurgulanır. e) Kullanıcıdan veri alınması gereken durumlarda input() komutunun kullanıldığı örneklerle gösterilir. f) Farklı Python çalışma ortamlarının avantaj ve dezavantajları listelenir. g) Öğrencilerden kullanacakları Python çalışma ortamını, nedenlerini belirterek seçmeleri istenir. | F4: 1. ÜNİTE: PYTHON PROGRAMLAMAYA GİRİŞ Farklı entegre geliştirme ortamları | G4: Öz Değerlendirme, Sözlü yoklama, Ders Materyalleri Ölçme ve Değerlendirme Bölümleri | H4: Anlatım, Soru-Cevap , Takım/Grup Çalışması, Örnek Olay İncelemesi, Gösterip yaptırma
A5: =Sayfa1!B4 -> Eylül | B5: =Sayfa1!C4 -> 5 | C5: =TEXT(Sayfa1!D4, "gg") & " - " & TEXT(Sayfa1!E4, "gg") -> 28 - 02 | D5: =Sayfa1!F4 -> 1 | E5: "1.3. Değişkenlerde tutulacak verileri tanımlar. a) Python programlama dilinde kullanılan veri türleri listelenir. Metinsel, sayısal, sıralama (list, tuple) ve sözlük türünde veri tanımlamaları yapılır. b) Değişken tanımlama kurallarından bahsedilerek verilerin değişkenlere ataması yapılır. c) Değişken ve sabit kavramlarının tanımı yapılır." | F5: 1. ÜNİTE: PYTHON PROGRAMLAMAYA GİRİŞ Değişken ve sabit kavramı | G5: Öz Değerlendirme, Sözlü yoklama, Ders Materyalleri Ölçme ve Değerlendirme Bölümleri | H5: Anlatım, Soru-Cevap , Takım/Grup Çalışması, Örnek Olay İncelemesi, Gösterip yaptırma
A6: =Sayfa1!B5 -> Ekim | B6: =Sayfa1!C5 -> 2 | C6: =TEXT(Sayfa1!D5, "gg") & " - " & TEXT(Sayfa1!E5, "gg") -> 05 - 09 | D6: =Sayfa1!F5 -> 1 | E6: 1.3. Değişkenlerde tutulacak verileri tanımlar. ç) Bir değişkene veri ataması örnekler üzerinden anlatılır. d) Değişken isimleri belirlerken dikkat edilmesi gereken kurallar açıklanır, kullanılabilecek bazı standartlar (camel case,pascal base, vb.) tanıtılır. | F6: 1. ÜNİTE: PYTHON PROGRAMLAMAYA GİRİŞ Değişken ve sabit kavramı | G6: Öz Değerlendirme, Sözlü yoklama, Ders Materyalleri Ölçme ve Değerlendirme Bölümleri | H6: Anlatım, Soru-Cevap , Takım/Grup Çalışması, Örnek Olay İncelemesi, Gösterip yaptırma
A7: =Sayfa1!B6 -> Ekim | B7: =Sayfa1!C6 -> 3 | C7: =TEXT(Sayfa1!D6, "gg") & " - " & TEXT(Sayfa1!E6, "gg") -> 12 - 16 | D7: =Sayfa1!F6 -> 1 | E7: 1.4 Bir değişkeni tanımlarken hangi tür veriyi tutacağını belirler. a) Değişkenlerin farklı türlerde verileri (tam sayı, ondalıklı sayı, metin, vb.) tutabileceği vurgulanır. b) Veri türlerinden bahsedilir. Kullanım yerleri örneklerle açıklanır. c) Kullanım amacına göre veri türü dönüşümlerinden bahsedilir. | F7: 1. ÜNİTE: PYTHON PROGRAMLAMAYA GİRİŞ Değişkenlerde veri türleri | G7: Öz Değerlendirme, Sözlü yoklama, Ders Materyalleri Ölçme ve Değerlendirme Bölümleri | H7: Anlatım, Soru-Cevap , Takım/Grup Çalışması, Örnek Olay İncelemesi, Gösterip yaptırma
A8: =Sayfa1!B7 -> Ekim | B8: =Sayfa1!C7 -> 4 | C8: =TEXT(Sayfa1!D7, "gg") & " - " & TEXT(Sayfa1!E7, "gg") -> 19 - 23 | D8: =Sayfa1!F7 -> 1 | E8: 1.4 Bir değişkeni tanımlarken hangi tür veriyi tutacağını belirler. a) Değişkenlerin farklı türlerde verileri (tam sayı, ondalıklı sayı, metin, vb.) tutabileceği vurgulanır. b) Veri türlerinden bahsedilir. Kullanım yerleri örneklerle açıklanır. c) Kullanım amacına göre veri türü dönüşümlerinden bahsedilir. | F8: 1. ÜNİTE: PYTHON PROGRAMLAMAYA GİRİŞ Değişkenlerde veri türleri | G8: Öz Değerlendirme, Sözlü yoklama, Ders Materyalleri Ölçme ve Değerlendirme Bölümleri | H8: Anlatım, Soru-Cevap , Takım/Grup Çalışması, Örnek Olay İncelemesi, Gösterip yaptırma
A9: =Sayfa1!B8 -> Ekim | B9: =Sayfa1!C8 -> 5 | C9: =TEXT(Sayfa1!D8, "gg") & " - " & TEXT(Sayfa1!E8, "gg") -> 26 - 30 | D9: =Sayfa1!F8 -> 1 | E9: 1.5. Tanımlanan değişkenlerde işlem önceliğini gözetir. a) Programda kullanılan operatörler listelenir. Aritmetiksel, mantıksal ve atama operatörleri örneklendirilir. Farklı değişkenlerdeki verilerle karşılaştırma operatörlerini kullanarak işlemler yapılır. b) Operatörlerle yapılan işlemlerde işlem önceliği gözetilir, farklı sonuçlar elde edilebileceği durumlar örneklendirilir. | F9: 1. ÜNİTE: PYTHON PROGRAMLAMAYA GİRİŞ Değişkenlerde işlem önceliği | G9: Öz Değerlendirme, Sözlü yoklama, Ders Materyalleri Ölçme ve Değerlendirme Bölümleri | H9: Anlatım, Soru-Cevap , Takım/Grup Çalışması, Örnek Olay İncelemesi, Gösterip yaptırma | I9: Cumhuriyet Bayramı(29 Ekim)
A10: =Sayfa1!B9 -> Kasım | B10: =Sayfa1!C9 -> 1 | C10: =TEXT(Sayfa1!D9, "gg") & " - " & TEXT(Sayfa1!E9, "gg") -> 02 - 06 | D10: =Sayfa1!F9 -> 1 | E10: 1.5. Tanımlanan değişkenlerde işlem önceliğini gözetir. a) Programda kullanılan operatörler listelenir. Aritmetiksel, mantıksal ve atama operatörleri örneklendirilir. Farklı değişkenlerdeki verilerle karşılaştırma operatörlerini kullanarak işlemler yapılır. b) Operatörlerle yapılan işlemlerde işlem önceliği gözetilir, farklı sonuçlar elde edilebileceği durumlar örneklendirilir. | F10: 1. ÜNİTE: PYTHON PROGRAMLAMAYA GİRİŞ Değişkenlerde işlem önceliği | G10: Öz Değerlendirme, Sözlü yoklama, Ders Materyalleri Ölçme ve Değerlendirme Bölümleri | H10: Anlatım, Soru-Cevap , Takım/Grup Çalışması, Örnek Olay İncelemesi, Gösterip yaptırma | I10: Atatürk Haftası(10-16 Kasım)
A11: =Sayfa1!B10 -> Kasım | B11: =Sayfa1!C10 -> 2 | C11: =TEXT(Sayfa1!D10, "gg") & " - " & TEXT(Sayfa1!E10, "gg") -> 09 - 13 | D11: =Sayfa1!F10 -> 1 | E11: SINAV HAFTASI
A12: =Sayfa1!B11 -> Kasım | B12: =Sayfa1!C11 -> 3 | C12: =TEXT(Sayfa1!D11, "gg") & " - " & TEXT(Sayfa1!E11, "gg") -> 16 - 20 | D12: =Sayfa1!F11 -> 1 | E12: 1. DÖNEM ARA TATİLİ: 16 - 20 Kasım
A13: =Sayfa1!B12 -> Kasım | B13: =Sayfa1!C12 -> 4 | C13: =TEXT(Sayfa1!D12, "gg") & " - " & TEXT(Sayfa1!E12, "gg") -> 23 - 27 | D13: =Sayfa1!F12 -> 1 | E13: 1.5. Tanımlanan değişkenlerde işlem önceliğini gözetir. c) Operatörler ile aritmetiksel ve mantıksal işlemlerden bahsedilir. ç) Eşitlik ve atama operatörü arasındaki fark örneklerle gösterilir. d) Matematik dersindeki işlemler ile benzerlikleri anlatılır ve işlem sıralaması bir tablo ile gösterilebilir. | F13: 1. ÜNİTE: PYTHON PROGRAMLAMAYA GİRİŞ Değişkenlerde işlem önceliği | G13: Öz Değerlendirme, Sözlü yoklama, Ders Materyalleri Ölçme ve Değerlendirme Bölümleri | H13: Anlatım, Soru-Cevap , Takım/Grup Çalışması, Örnek Olay İncelemesi, Gösterip yaptırma | I13: Öğretmenler Günü (24 Kasım)
A14: =Sayfa1!B13 -> Kasım | B14: =Sayfa1!C13 -> 5 | C14: =TEXT(Sayfa1!D13, "gg") & " - " & TEXT(Sayfa1!E13, "gg") -> 30 - 04 | D14: =Sayfa1!F13 -> 1 | E14: 1.5. Tanımlanan değişkenlerde işlem önceliğini gözetir. c) Operatörler ile aritmetiksel ve mantıksal işlemlerden bahsedilir. ç) Eşitlik ve atama operatörü arasındaki fark örneklerle gösterilir. d) Matematik dersindeki işlemler ile benzerlikleri anlatılır ve işlem sıralaması bir tablo ile gösterilebilir. | F14: 1. ÜNİTE: PYTHON PROGRAMLAMAYA GİRİŞ Değişkenlerde işlem önceliği | G14: Öz Değerlendirme, Sözlü yoklama, Ders Materyalleri Ölçme ve Değerlendirme Bölümleri | H14: Anlatım, Soru-Cevap , Takım/Grup Çalışması, Örnek Olay İncelemesi, Gösterip yaptırma | I14: Dünya Engelliler Günü (3 Aralık)
A15: =Sayfa1!B14 -> Aralık | B15: =Sayfa1!C14 -> 2 | C15: =TEXT(Sayfa1!D14, "gg") & " - " & TEXT(Sayfa1!E14, "gg") -> 07 - 11 | D15: =Sayfa1!F14 -> 1 | E15: 1.6. Kullanıcıdan veri alır. a) Pythonda kullanıcıdan veri almak için kullanılan “input” komutunun kullanımı açıklanır. b) Kullanıcıdan veri almak için input() komutu kullanılacağı gösterilir. | F15: 1. ÜNİTE: PYTHON PROGRAMLAMAYA GİRİŞ Kullanıcıdan veri alma | G15: Öz Değerlendirme, Sözlü yoklama, Ders Materyalleri Ölçme ve Değerlendirme Bölümleri | H15: Anlatım, Soru-Cevap , Takım/Grup Çalışması, Örnek Olay İncelemesi, Gösterip yaptırma
A16: =Sayfa1!B15 -> Aralık | B16: =Sayfa1!C15 -> 3 | C16: =TEXT(Sayfa1!D15, "gg") & " - " & TEXT(Sayfa1!E15, "gg") -> 14 - 18 | D16: =Sayfa1!F15 -> 1 | E16: 1.6. Kullanıcıdan veri alır. a) Pythonda kullanıcıdan veri almak için kullanılan “input” komutunun kullanımı açıklanır. b) Kullanıcıdan veri almak için input() komutu kullanılacağı gösterilir. | F16: 1. ÜNİTE: PYTHON PROGRAMLAMAYA GİRİŞ Kullanıcıdan veri alma | G16: Öz Değerlendirme, Sözlü yoklama, Ders Materyalleri Ölçme ve Değerlendirme Bölümleri | H16: Anlatım, Soru-Cevap , Takım/Grup Çalışması, Örnek Olay İncelemesi, Gösterip yaptırma
A17: =Sayfa1!B16 -> Aralık | B17: =Sayfa1!C16 -> 4 | C17: =TEXT(Sayfa1!D16, "gg") & " - " & TEXT(Sayfa1!E16, "gg") -> 21 - 25 | D17: =Sayfa1!F16 -> 1 | E17: 1.7. Kullanıcıdan alınan veriyi değişkene tanımlar. a) Alınan verinin değişkene atılması örneklerle gösterilir. b) input() komutunu kullanarak aldığı veriyi değişkene atar. c) Verinin kullanım amacına göre türünün değiştirilmesi gerektiğinden bahsedilir. Bu değişimin nasıl olacağı örneklerde gösterilir. Örneğin matematiksel bir işlem yapılacaksa kullanıcıdan alınan verinin integer türüne dönüştürülmesi için input() komutunun başına int() ifadesinin yazılması gerektiği söylenir. | F17: 1. ÜNİTE: PYTHON PROGRAMLAMAYA GİRİŞ Kullanıcıdan alınan veriyi değişkene tanımlama | G17: Öz Değerlendirme, Sözlü yoklama, Ders Materyalleri Ölçme ve Değerlendirme Bölümleri | H17: Anlatım, Soru-Cevap , Takım/Grup Çalışması, Örnek Olay İncelemesi, Gösterip yaptırma
A18: =Sayfa1!B17 -> Aralık | B18: =Sayfa1!C17 -> 5 | C18: =TEXT(Sayfa1!D17, "gg") & " - " & TEXT(Sayfa1!E17, "gg") -> 28 - 01 | D18: =Sayfa1!F17 -> 1 | E18: 1.7. Kullanıcıdan alınan veriyi değişkene tanımlar. a) Alınan verinin değişkene atılması örneklerle gösterilir. b) input() komutunu kullanarak aldığı veriyi değişkene atar. c) Verinin kullanım amacına göre türünün değiştirilmesi gerektiğinden bahsedilir. Bu değişimin nasıl olacağı örneklerde gösterilir. Örneğin matematiksel bir işlem yapılacaksa kullanıcıdan alınan verinin integer türüne dönüştürülmesi için input() komutunun başına int() ifadesinin yazılması gerektiği söylenir. | F18: 1. ÜNİTE: PYTHON PROGRAMLAMAYA GİRİŞ Kullanıcıdan alınan veriyi değişkene tanımlama | G18: Öz Değerlendirme, Sözlü yoklama, Ders Materyalleri Ölçme ve Değerlendirme Bölümleri | H18: Anlatım, Soru-Cevap , Takım/Grup Çalışması, Örnek Olay İncelemesi, Gösterip yaptırma
A19: =Sayfa1!B18 -> Ocak | B19: =Sayfa1!C18 -> 2 | C19: =TEXT(Sayfa1!D18, "gg") & " - " & TEXT(Sayfa1!E18, "gg") -> 04 - 08 | D19: =Sayfa1!F18 -> 1 | E19: 2.1. Python programlama dili karar yapılarını içeren programlar geliştirir. a) Karar yapıları günlük hayattan örneklerle açıklanır. Çoklu karar durumlarında nasıl bir sıralama izlendiği belirtilir. If-else ve if-elif-else koşul durumları karşılaştırılır, farklı problem durumlarıyla kullanılır. b) İç içe karar yapıları açıklanır. Örnek programlar yazılır. c) If else yapısının kullanımı açıklanır. Bu yapı kullanılarak problem çözmesi istenir. ç) Elif yapısının kullanımı açıklanır. Bu yapı kullanılarak problem çözmesi istenir. | F19: 2. ÜNİTE: PYTHON PROGRAMLAMA DİLİ İLE YAZILIM GELİŞTİRME Karar yapıları | G19: Öz Değerlendirme, Sözlü yoklama, Ders Materyalleri Ölçme ve Değerlendirme Bölümleri | H19: Anlatım, Soru-Cevap , Takım/Grup Çalışması, Örnek Olay İncelemesi, Gösterip yaptırma
A20: =Sayfa1!B19 -> Ocak | B20: =Sayfa1!C19 -> 3 | C20: =TEXT(Sayfa1!D19, "gg") & " - " & TEXT(Sayfa1!E19, "gg") -> 11 - 15 | D20: =Sayfa1!F19 -> 1 | E20: 2.1. Python programlama dili karar yapılarını içeren programlar geliştirir. a) Karar yapıları günlük hayattan örneklerle açıklanır. Çoklu karar durumlarında nasıl bir sıralama izlendiği belirtilir. If-else ve if-elif-else koşul durumları karşılaştırılır, farklı problem durumlarıyla kullanılır. b) İç içe karar yapıları açıklanır. Örnek programlar yazılır. c) If else yapısının kullanımı açıklanır. Bu yapı kullanılarak problem çözmesi istenir. ç) Elif yapısının kullanımı açıklanır. Bu yapı kullanılarak problem çözmesi istenir. | F20: 2. ÜNİTE: PYTHON PROGRAMLAMA DİLİ İLE YAZILIM GELİŞTİRME Karar yapıları | G20: Öz Değerlendirme, Sözlü yoklama, Ders Materyalleri Ölçme ve Değerlendirme Bölümleri | H20: Anlatım, Soru-Cevap , Takım/Grup Çalışması, Örnek Olay İncelemesi, Gösterip yaptırma
A21: =Sayfa1!B20 -> Ocak | B21: =Sayfa1!C20 -> 4 | C21: =TEXT(Sayfa1!D20, "gg") & " - " & TEXT(Sayfa1!E20, "gg") -> 18 - 22 | D21: =Sayfa1!F20 -> 1 | E21: SINAV HAFTASI
E22: YARIYIL TATİLİ: 25 Ocak - 5 Şubat 2027
A23: =Sayfa1!B21 -> Şubat | B23: =Sayfa1!C21 -> 2 | C23: =TEXT(Sayfa1!D21, "gg") & " - " & TEXT(Sayfa1!E21, "gg") -> 08 - 12 | D23: =Sayfa1!F21 -> 1 | E23: 2.1. Python programlama dili karar yapılarını içeren programlar geliştirir. d) Boolean yapısı anlatılır. e) If, if else, if elif else yapılarının kullanımı açıklanır. f) Karar yapısı içeren farklı problemleri belirtilen yapılar kullanarak çözecek kodların yazılması istenir. | F23: 2. ÜNİTE: PYTHON PROGRAMLAMA DİLİ İLE YAZILIM GELİŞTİRME Karar yapıları | G23: Öz Değerlendirme, Sözlü yoklama, Ders Materyalleri Ölçme ve Değerlendirme Bölümleri | H23: Anlatım, Soru-Cevap , Takım/Grup Çalışması, Örnek Olay İncelemesi, Gösterip yaptırma
A24: =Sayfa1!B22 -> Şubat | B24: =Sayfa1!C22 -> 3 | C24: =TEXT(Sayfa1!D22, "gg") & " - " & TEXT(Sayfa1!E22, "gg") -> 15 - 19 | D24: =Sayfa1!F22 -> 1 | E24: 2.1. Python programlama dili karar yapılarını içeren programlar geliştirir. d) Boolean yapısı anlatılır. e) If, if else, if elif else yapılarının kullanımı açıklanır. f) Karar yapısı içeren farklı problemleri belirtilen yapılar kullanarak çözecek kodların yazılması istenir. | F24: 2. ÜNİTE: PYTHON PROGRAMLAMA DİLİ İLE YAZILIM GELİŞTİRME Karar yapıları | G24: Öz Değerlendirme, Sözlü yoklama, Ders Materyalleri Ölçme ve Değerlendirme Bölümleri | H24: Anlatım, Soru-Cevap , Takım/Grup Çalışması, Örnek Olay İncelemesi, Gösterip yaptırma
A25: =Sayfa1!B23 -> Şubat | B25: =Sayfa1!C23 -> 4 | C25: =TEXT(Sayfa1!D23, "gg") & " - " & TEXT(Sayfa1!E23, "gg") -> 22 - 26 | D25: =Sayfa1!F23 -> 1 | E25: 2.1. Python programlama dili karar yapılarını içeren programlar geliştirir. d) Boolean yapısı anlatılır. e) If, if else, if elif else yapılarının kullanımı açıklanır. f) Karar yapısı içeren farklı problemleri belirtilen yapılar kullanarak çözecek kodların yazılması istenir. | F25: 2. ÜNİTE: PYTHON PROGRAMLAMA DİLİ İLE YAZILIM GELİŞTİRME Karar yapıları | G25: Öz Değerlendirme, Sözlü yoklama, Ders Materyalleri Ölçme ve Değerlendirme Bölümleri | H25: Anlatım, Soru-Cevap , Takım/Grup Çalışması, Örnek Olay İncelemesi, Gösterip yaptırma
A26: =Sayfa1!B24 -> Mart | B26: =Sayfa1!C24 -> 1 | C26: =TEXT(Sayfa1!D24, "gg") & " - " & TEXT(Sayfa1!E24, "gg") -> 01 - 05 | D26: =Sayfa1!F24 -> 1 | E26: SINAV HAFTASI
A27: =Sayfa1!B25 -> Mart | B27: =Sayfa1!C25 -> 2 | C27: =TEXT(Sayfa1!D25, "gg") & " - " & TEXT(Sayfa1!E25, "gg") -> 08 - 12 | D27: =Sayfa1!F25 -> 1 | E27: 2. DÖNEM ARA TATİLİ: 8 - 12 Mart 2027
A28: =Sayfa1!B26 -> Mart | B28: =Sayfa1!C26 -> 3 | C28: =TEXT(Sayfa1!D26, "gg") & " - " & TEXT(Sayfa1!E26, "gg") -> 15 - 19 | D28: =Sayfa1!F26 -> 1 | E28: 2.2. Bir problemi çözmek için kullanacağı döngü yapısına karar verir. a) Tekrar eden durumları programlarken for, while gibi döngüleri amacına uygun olarak kullanır. b) İç içe döngü yapıları kullanımı açıklanır. Örnek programlar yazılır. c) While ve for döngülerinin program içinde nasıl kullanıldığı anlatılır. | F28: 2. ÜNİTE: PYTHON PROGRAMLAMA DİLİ İLE YAZILIM GELİŞTİRME Döngü yapıları | G28: Öz Değerlendirme, Sözlü yoklama, Ders Materyalleri Ölçme ve Değerlendirme Bölümleri | H28: Anlatım, Soru-Cevap , Takım/Grup Çalışması, Örnek Olay İncelemesi, Gösterip yaptırma | I28: İstiklâl Marşı'nın Kabulü ve Mehmet Akif Ersoy'u Anma Günü (12 Mart)
A29: =Sayfa1!B27 -> Mart | B29: =Sayfa1!C27 -> 4 | C29: =TEXT(Sayfa1!D27, "gg") & " - " & TEXT(Sayfa1!E27, "gg") -> 22 - 26 | D29: =Sayfa1!F27 -> 1 | E29: 2.2. Bir problemi çözmek için kullanacağı döngü yapısına karar verir. a) Tekrar eden durumları programlarken for, while gibi döngüleri amacına uygun olarak kullanır. b) İç içe döngü yapıları kullanımı açıklanır. Örnek programlar yazılır. c) While ve for döngülerinin program içinde nasıl kullanıldığı anlatılır. | F29: 2. ÜNİTE: PYTHON PROGRAMLAMA DİLİ İLE YAZILIM GELİŞTİRME Döngü yapıları | G29: Öz Değerlendirme, Sözlü yoklama, Ders Materyalleri Ölçme ve Değerlendirme Bölümleri | H29: Anlatım, Soru-Cevap , Takım/Grup Çalışması, Örnek Olay İncelemesi, Gösterip yaptırma
A30: =Sayfa1!B28 -> Mart | B30: =Sayfa1!C28 -> 5 | C30: =TEXT(Sayfa1!D28, "gg") & " - " & TEXT(Sayfa1!E28, "gg") -> 29 - 02 | D30: =Sayfa1!F28 -> 1 | E30: 2.2. Bir problemi çözmek için kullanacağı döngü yapısına karar verir. ç) While ve for arasındaki farktan bahsedilir. Hangi durumlarda kullanılacağına dair örnekler verilir. d) Döngünün belirli bir aralıkta çalışmasını sağlayan range kavramı örneklerle açıklanır. e) Break ve continue komutlarına örnek verilir. | F30: 2. ÜNİTE: PYTHON PROGRAMLAMA DİLİ İLE YAZILIM GELİŞTİRME Döngü yapıları | G30: Öz Değerlendirme, Sözlü yoklama, Ders Materyalleri Ölçme ve Değerlendirme Bölümleri | H30: Anlatım, Soru-Cevap , Takım/Grup Çalışması, Örnek Olay İncelemesi, Gösterip yaptırma
A31: =Sayfa1!B29 -> Nisan | B31: =Sayfa1!C29 -> 2 | C31: =TEXT(Sayfa1!D29, "gg") & " - " & TEXT(Sayfa1!E29, "gg") -> 05 - 09 | D31: =Sayfa1!F29 -> 1 | E31: 2.2. Bir problemi çözmek için kullanacağı döngü yapısına karar verir. ç) While ve for arasındaki farktan bahsedilir. Hangi durumlarda kullanılacağına dair örnekler verilir. d) Döngünün belirli bir aralıkta çalışmasını sağlayan range kavramı örneklerle açıklanır. e) Break ve continue komutlarına örnek verilir. | F31: 2. ÜNİTE: PYTHON PROGRAMLAMA DİLİ İLE YAZILIM GELİŞTİRME Döngü yapıları | G31: Öz Değerlendirme, Sözlü yoklama, Ders Materyalleri Ölçme ve Değerlendirme Bölümleri | H31: Anlatım, Soru-Cevap , Takım/Grup Çalışması, Örnek Olay İncelemesi, Gösterip yaptırma
A32: =Sayfa1!B30 -> Nisan | B32: =Sayfa1!C30 -> 3 | C32: =TEXT(Sayfa1!D30, "gg") & " - " & TEXT(Sayfa1!E30, "gg") -> 12 - 16 | D32: =Sayfa1!F30 -> 1 | E32: 2.3. Çoklu koşulların mantıksal sonuçlarını değerlendirir. a) Çoklu koşulların kullanımında mantıksal operatörlerin doğurabileceği sonuçlar tartışılır. Pozitif, negatif mantık yapısı açıklanır. Koşul durumlarında tek tip mantık yapısı üzerinden gidilmesi tavsiye edilir. b) İç içe döngülerden bahsedilir. | F32: 2. ÜNİTE: PYTHON PROGRAMLAMA DİLİ İLE YAZILIM GELİŞTİRME Çoklu koşullar | G32: Öz Değerlendirme, Sözlü yoklama, Ders Materyalleri Ölçme ve Değerlendirme Bölümleri | H32: Anlatım, Soru-Cevap , Takım/Grup Çalışması, Örnek Olay İncelemesi, Gösterip yaptırma
A33: =Sayfa1!B31 -> Nisan | B33: =Sayfa1!C31 -> 4 | C33: =TEXT(Sayfa1!D31, "gg") & " - " & TEXT(Sayfa1!E31, "gg") -> 19 - 23 | D33: =Sayfa1!F31 -> 1 | E33: 2.3. Çoklu koşulların mantıksal sonuçlarını değerlendirir. b) İç içe döngülerden bahsedilir. c) Öğrencilerden iç içe döngüleri kullanılarak çarpım tablosu yapmaları istenir. Örnek üzerinden mantıksal sonuç çıkarımı için sınıfça tartışılır. | F33: 2. ÜNİTE: PYTHON PROGRAMLAMA DİLİ İLE YAZILIM GELİŞTİRME Çoklu koşullar | G33: Öz Değerlendirme, Sözlü yoklama, Ders Materyalleri Ölçme ve Değerlendirme Bölümleri | H33: Anlatım, Soru-Cevap , Takım/Grup Çalışması, Örnek Olay İncelemesi, Gösterip yaptırma | I33: Ulusal Egemenlik ve Çocuk Bayramı (23 Nisan)
A34: =Sayfa1!B32 -> Nisan | B34: =Sayfa1!C32 -> 5 | C34: =TEXT(Sayfa1!D32, "gg") & " - " & TEXT(Sayfa1!E32, "gg") -> 26 - 30 | D34: =Sayfa1!F32 -> 1 | E34: 2.3. Çoklu koşulların mantıksal sonuçlarını değerlendirir. ç) Öğrencilere içinde tekrar eden komutların bulunduğu kod parçaları verilir. Bu kodların aynı komutların tekrarı olmadan yazılıp yazılamayacağı üzerinde düşünmeleri istenir. | F34: 2. ÜNİTE: PYTHON PROGRAMLAMA DİLİ İLE YAZILIM GELİŞTİRME Çoklu koşullar | G34: Öz Değerlendirme, Sözlü yoklama, Ders Materyalleri Ölçme ve Değerlendirme Bölümleri | H34: Anlatım, Soru-Cevap , Takım/Grup Çalışması, Örnek Olay İncelemesi, Gösterip yaptırma | I34: Kût'ül Amâre Zaferi (29 Nisan) Emek ve Dayanışma Günü (1 Mayıs)
A35: =Sayfa1!B33 -> Mayıs | B35: =Sayfa1!C33 -> 2 | C35: =TEXT(Sayfa1!D33, "gg") & " - " & TEXT(Sayfa1!E33, "gg") -> 03 - 07 | D35: =Sayfa1!F33 -> 1 | E35: 2.3. Çoklu koşulların mantıksal sonuçlarını değerlendirir. d) For/while döngü yapılarının kullanımı açıklanır. e) Döngü kullanımının kod tekrarını önleyerek programı sadeleştirdiği vurgulanır. | F35: 2. ÜNİTE: PYTHON PROGRAMLAMA DİLİ İLE YAZILIM GELİŞTİRME Çoklu koşullar | G35: Öz Değerlendirme, Sözlü yoklama, Ders Materyalleri Ölçme ve Değerlendirme Bölümleri | H35: Anlatım, Soru-Cevap , Takım/Grup Çalışması, Örnek Olay İncelemesi, Gösterip yaptırma
A36: =Sayfa1!B34 -> Mayıs | B36: =Sayfa1!C34 -> 3 | C36: =TEXT(Sayfa1!D34, "gg") & " - " & TEXT(Sayfa1!E34, "gg") -> 10 - 14 | D36: =Sayfa1!F34 -> 1 | E36: 2.4. Fonksiyonları program içinde yöntemlerine göre kullanır. a) Programlama dilinde fonksiyon kullanımı açıklanır. Fonksiyon tanımlaması yapılır, tanımlanan fonksiyonun çağrılması durumunda gerçekleştireceği işlemler tanımlanır. Parametreli ve parametresiz fonksiyonlar yazılarak farkı tartışılır. b) Fonksiyon kavramı ve kullanım gerekçeleri açıklanır. | F36: 2. ÜNİTE: PYTHON PROGRAMLAMA DİLİ İLE YAZILIM GELİŞTİRME Fonksiyonlar | G36: Öz Değerlendirme, Sözlü yoklama, Ders Materyalleri Ölçme ve Değerlendirme Bölümleri | H36: Anlatım, Soru-Cevap , Takım/Grup Çalışması, Örnek Olay İncelemesi, Gösterip yaptırma
A37: =Sayfa1!B35 -> Mayıs | B37: =Sayfa1!C35 -> 4 | C37: =TEXT(Sayfa1!D35, "gg") & " - " & TEXT(Sayfa1!E35, "gg") -> 17 - 21 | D37: =Sayfa1!F35 -> 1 | E37: 2.4. Fonksiyonları program içinde yöntemlerine göre kullanır. c) Bir programda farklı yerlerde aynı işlemi yapmak için kodları kopyalayıp yapıştırmak yerine fonksiyonların da kullanılabileceği örneklerle gösterilir. ç) Öğrencilerden kendi girdikleri ismi, ekrana yazdırma işlemi yapan bir fonksiyon tanımlamaları istenir. d) Parametreli ve parametresiz fonksiyon arasındaki fark örneklerle açıklanır. | F37: 2. ÜNİTE: PYTHON PROGRAMLAMA DİLİ İLE YAZILIM GELİŞTİRME Fonksiyonlar | G37: Öz Değerlendirme, Sözlü yoklama, Ders Materyalleri Ölçme ve Değerlendirme Bölümleri | H37: Anlatım, Soru-Cevap , Takım/Grup Çalışması, Örnek Olay İncelemesi, Gösterip yaptırma | I37: Atatürk'ü Anma ve Gençlik ve Spor Bayramı (19 Mayıs)
A38: =Sayfa1!B36 -> Mayıs | B38: =Sayfa1!C36 -> 5 | C38: =TEXT(Sayfa1!D36, "gg") & " - " & TEXT(Sayfa1!E36, "gg") -> 24 - 28 | D38: =Sayfa1!F36 -> 1 | E38: 2.5. Standart fonksiyon kümelerini ve kütüphanelerini kullanır. a) Ön tanımlı fonksiyon kümelerine yer verilir. Liste üzerinde fonksiyon işlemleri yapılır. Len (), count (), insert () vb. hazır fonksiyonlar örneklendirilir. b) Math() kütüphanesi kullanılır. math.factorial (8) işleminin sonucu gözlemlenir. Çeşitli hazır fonksiyon kütüphaneleri öğrencilere tanıtılır. | F38: 2. ÜNİTE: PYTHON PROGRAMLAMA DİLİ İLE YAZILIM GELİŞTİRME Standart fonksiyon kümeleri ve kütüphaneleri | G38: Öz Değerlendirme, Sözlü yoklama, Ders Materyalleri Ölçme ve Değerlendirme Bölümleri | H38: Anlatım, Soru-Cevap , Takım/Grup Çalışması, Örnek Olay İncelemesi, Gösterip yaptırma | I38: İstanbul'un Fethi (29 Mayıs)
A39: =Sayfa1!B37 -> Mayıs | B39: =Sayfa1!C37 -> 6 | C39: =TEXT(Sayfa1!D37, "gg") & " - " & TEXT(Sayfa1!E37, "gg") -> 31 - 04 | D39: =Sayfa1!F37 -> 1 | E39: 2.5. Standart fonksiyon kümelerini ve kütüphanelerini kullanır. c) Öğrencilerden Python programlama dilinde sıklıkla kullanılan ve önemli işlevlere sahip standart fonksiyonlar ile ilgili araştırma yapmaları istenir. ç) Gömülü fonksiyonların yanında hazır kütüphanelerin varlığından bahsedilir ve örneklendirilerek açıklanır. | F39: 2. ÜNİTE: PYTHON PROGRAMLAMA DİLİ İLE YAZILIM GELİŞTİRME Standart fonksiyon kümeleri ve kütüphaneleri | G39: Öz Değerlendirme, Sözlü yoklama, Ders Materyalleri Ölçme ve Değerlendirme Bölümleri | H39: Anlatım, Soru-Cevap , Takım/Grup Çalışması, Örnek Olay İncelemesi, Gösterip yaptırma
A40: =Sayfa1!B38 -> Haziran | B40: =Sayfa1!C38 -> 2 | C40: =TEXT(Sayfa1!D38, "gg") & " - " & TEXT(Sayfa1!E38, "gg") -> 07 - 11 | D40: =Sayfa1!F38 -> 1 | E40: 2.5. Standart fonksiyon kümelerini ve kütüphanelerini kullanır. d) Üst düzey fonksiyonlardan bahsedilir. e) Kendini çağıran fonksiyonlar örneklendirilir. f) Yazılmak istenen her programda kullanıcının daha önce tanımladığı fonksiyonları yeniden tekrarlamak zorunda olup olmadığı sorulur, öğrencilerin fikir yürütmesi istenir. | F40: 2. ÜNİTE: PYTHON PROGRAMLAMA DİLİ İLE YAZILIM GELİŞTİRME Standart fonksiyon kümeleri ve kütüphaneleri | G40: Öz Değerlendirme, Sözlü yoklama, Ders Materyalleri Ölçme ve Değerlendirme Bölümleri | H40: Anlatım, Soru-Cevap , Takım/Grup Çalışması, Örnek Olay İncelemesi, Gösterip yaptırma
...

Sheet Sayfa1
B1: Aylar | C1: Hafta | D1: Tarihler | F1: Ders Saati
B2: =TEXT(D2,"aaaa") -> Eylül | C2: =WEEKNUM(D2)-WEEKNUM(EOMONTH(D2,-1)+1)+1 -> 3 | D2: 46279 | E2: 46283 | F2: 1
B3: =TEXT(D3,"aaaa") -> Eylül | C3: =WEEKNUM(D3)-WEEKNUM(EOMONTH(D3,-1)+1)+1 -> 4 | D3: =D2+7 -> 46286 | E3: =E2+7 -> 46290 | F3: 1
B4: =TEXT(D4,"aaaa") -> Eylül | C4: =WEEKNUM(D4)-WEEKNUM(EOMONTH(D4,-1)+1)+1 -> 5 | D4: =D3+7 -> 46293 | E4: =E3+7 -> 46297 | F4: 1
B5: =TEXT(D5,"aaaa") -> Ekim | C5: =WEEKNUM(D5)-WEEKNUM(EOMONTH(D5,-1)+1)+1 -> 2 | D5: =D4+7 -> 46300 | E5: =E4+7 -> 46304 | F5: 1
B6: =TEXT(D6,"aaaa") -> Ekim | C6: =WEEKNUM(D6)-WEEKNUM(EOMONTH(D6,-1)+1)+1 -> 3 | D6: =D5+7 -> 46307 | E6: =E5+7 -> 46311 | F6: 1
B7: =TEXT(D7,"aaaa") -> Ekim | C7: =WEEKNUM(D7)-WEEKNUM(EOMONTH(D7,-1)+1)+1 -> 4 | D7: =D6+7 -> 46314 | E7: =E6+7 -> 46318 | F7: 1
B8: =TEXT(D8,"aaaa") -> Ekim | C8: =WEEKNUM(D8)-WEEKNUM(EOMONTH(D8,-1)+1)+1 -> 5 | D8: =D7+7 -> 46321 | E8: =E7+7 -> 46325 | F8: 1
B9: =TEXT(D9,"aaaa") -> Kasım | C9: =WEEKNUM(D9)-WEEKNUM(EOMONTH(D9,-1)+1)+1 -> 1 | D9: =D8+7 -> 46328 | E9: =E8+7 -> 46332 | F9: 1
B10: =TEXT(D10,"aaaa") -> Kasım | C10: =WEEKNUM(D10)-WEEKNUM(EOMONTH(D10,-1)+1)+1 -> 2 | D10: =D9+7 -> 46335 | E10: =E9+7 -> 46339 | F10: 1
B11: =TEXT(D11,"aaaa") -> Kasım | C11: =WEEKNUM(D11)-WEEKNUM(EOMONTH(D11,-1)+1)+1 -> 3 | D11: =D10+7 -> 46342 | E11: =E10+7 -> 46346 | F11: 1
B12: =TEXT(D12,"aaaa") -> Kasım | C12: =WEEKNUM(D12)-WEEKNUM(EOMONTH(D12,-1)+1)+1 -> 4 | D12: =D11+7 -> 46349 | E12: =E11+7 -> 46353 | F12: 1
B13: =TEXT(D13,"aaaa") -> Kasım | C13: =WEEKNUM(D13)-WEEKNUM(EOMONTH(D13,-1)+1)+1 -> 5 | D13: =D12+7 -> 46356 | E13: =E12+7 -> 46360 | F13: 1
B14: =TEXT(D14,"aaaa") -> Aralık | C14: =WEEKNUM(D14)-WEEKNUM(EOMONTH(D14,-1)+1)+1 -> 2 | D14: =D13+7 -> 46363 | E14: =E13+7 -> 46367 | F14: 1
... B20: =TEXT(D20,"aaaa") -> Ocak | C20: =WEEKNUM(D20)-WEEKNUM(EOMONTH(D20,-1)+1)+1 -> 4 | D20: =D19+7 -> 46405 | E20: =E19+7 -> 46409 | F20: 1
B21: =TEXT(D21,"aaaa") -> Şubat | C21: =WEEKNUM(D21)-WEEKNUM(EOMONTH(D21,-1)+1)+1 -> 2 | D21: =D20+21 -> 46426 | E21: =E20+21 -> 46430 | F21: 1
B22: =TEXT(D22,"aaaa") -> Şubat | C22: =WEEKNUM(D22)-WEEKNUM(EOMONTH(D22,-1)+1)+1 -> 3 | D22: =D21+7 -> 46433 | E22: =E21+7 -> 46437 | F22: 1
B23: =TEXT(D23,"aaaa") -> Şubat | C23: =WEEKNUM(D23)-WEEKNUM(EOMONTH(D23,-1)+1)+1 -> 4 | D23: =D22+7 -> 46440 | E23: =E22+7 -> 46444 | F23: 1
B24: =TEXT(D24,"aaaa") -> Mart | C24: =WEEKNUM(D24)-WEEKNUM(EOMONTH(D24,-1)+1)+1 -> 1 | D24: =D23+7 -> 46447 | E24: =E23+7 -> 46451 | F24: 1
B25: =TEXT(D25,"aaaa") -> Mart | C25: =WEEKNUM(D25)-WEEKNUM(EOMONTH(D25,-1)+1)+1 -> 2 | D25: =D24+7 -> 46454 | E25: =E24+7 -> 46458 | F25: 1
B26: =TEXT(D26,"aaaa") -> Mart | C26: =WEEKNUM(D26)-WEEKNUM(EOMONTH(D26,-1)+1)+1 -> 3 | D26: =D25+7 -> 46461 | E26: =E25+7 -> 46465 | F26: 1
B27: =TEXT(D27,"aaaa") -> Mart | C27: =WEEKNUM(D27)-WEEKNUM(EOMONTH(D27,-1)+1)+1 -> 4 | D27: =D26+7 -> 46468 | E27: =E26+7 -> 46472 | F27: 1
B28: =TEXT(D28,"aaaa") -> Mart | C28: =WEEKNUM(D28)-WEEKNUM(EOMONTH(D28,-1)+1)+1 -> 5 | D28: =D27+7 -> 46475 | E28: =E27+7 -> 46479 | F28: 1
B29: =TEXT(D29,"aaaa") -> Nisan | C29: =WEEKNUM(D29)-WEEKNUM(EOMONTH(D29,-1)+1)+1 -> 2 | D29: =D28+7 -> 46482 | E29: =E28+7 -> 46486 | F29: 1
B30: =TEXT(D30,"aaaa") -> Nisan | C30: =WEEKNUM(D30)-WEEKNUM(EOMONTH(D30,-1)+1)+1 -> 3 | D30: =D29+7 -> 46489 | E30: =E29+7 -> 46493 | F30: 1
B31: =TEXT(D31,"aaaa") -> Nisan | C31: =WEEKNUM(D31)-WEEKNUM(EOMONTH(D31,-1)+1)+1 -> 4 | D31: =D30+7 -> 46496 | E31: =E30+7 -> 46500 | F31: 1
B32: =TEXT(D32,"aaaa") -> Nisan | C32: =WEEKNUM(D32)-WEEKNUM(EOMONTH(D32,-1)+1)+1 -> 5 | D32: =D31+7 -> 46503 | E32: =E31+7 -> 46507 | F32: 1
B33: =TEXT(D33,"aaaa") -> Mayıs | C33: =WEEKNUM(D33)-WEEKNUM(EOMONTH(D33,-1)+1)+1 -> 2 | D33: =D32+7 -> 46510 | E33: =E32+7 -> 46514 | F33: 1
... B40: =TEXT(D40,"aaaa") -> Haziran | C40: =WEEKNUM(D40)-WEEKNUM(EOMONTH(D40,-1)+1)+1 -> 4 | D40: =D39+7 -> 46559 | E40: =E39+7 -> 46563 | F40: 1
